BEGIN:VCALENDAR
VERSION:2.0
PRODID:-//National High School Strength Coaches Association - ECPv6.15.20//NONSGML v1.0//EN
CALSCALE:GREGORIAN
METHOD:PUBLISH
X-WR-CALNAME:National High School Strength Coaches Association
X-ORIGINAL-URL:https://nhssca.us
X-WR-CALDESC:Events for National High School Strength Coaches Association
REFRESH-INTERVAL;VALUE=DURATION:PT1H
X-Robots-Tag:noindex
X-PUBLISHED-TTL:PT1H
BEGIN:VTIMEZONE
TZID:America/New_York
BEGIN:DAYLIGHT
TZOFFSETFROM:-0500
TZOFFSETTO:-0400
TZNAME:EDT
DTSTART:20230312T070000
END:DAYLIGHT
BEGIN:STANDARD
TZOFFSETFROM:-0400
TZOFFSETTO:-0500
TZNAME:EST
DTSTART:20231105T060000
END:STANDARD
BEGIN:DAYLIGHT
TZOFFSETFROM:-0500
TZOFFSETTO:-0400
TZNAME:EDT
DTSTART:20240310T070000
END:DAYLIGHT
BEGIN:STANDARD
TZOFFSETFROM:-0400
TZOFFSETTO:-0500
TZNAME:EST
DTSTART:20241103T060000
END:STANDARD
BEGIN:DAYLIGHT
TZOFFSETFROM:-0500
TZOFFSETTO:-0400
TZNAME:EDT
DTSTART:20250309T070000
END:DAYLIGHT
BEGIN:STANDARD
TZOFFSETFROM:-0400
TZOFFSETTO:-0500
TZNAME:EST
DTSTART:20251102T060000
END:STANDARD
END:VTIMEZONE
BEGIN:VEVENT
DTSTART;TZID=America/New_York:20241116T093000
DTEND;TZID=America/New_York:20241116T123000
DTSTAMP:20260421T025505
CREATED:20241017T231111Z
LAST-MODIFIED:20241018T121228Z
UID:52020-1731749400-1731760200@nhssca.us
SUMMARY:2024 South Carolina Family Day
DESCRIPTION:« All Events\n 				\n				\n				\n				\n					This event has passed. \n				\n				\n				\n				\n					\n	2024 South Carolina Family Day				\n				\n				\n				\n					\n		\n			November 16\, 2024\n\n	\n\n	  @  \n\n\n9:30 am\n\n		\n\n\n\n	\n	  -  \n\n12:30 pm\n\n\n\n	\n				\n				\n				\n				\n																														\n				\n					\n		\n					\n		\n				\n						\n					\n			\n						\n						\n					\n			\n						\n				\n					#FAMILY DAY PRESENTERS				\n				\n					\n		\n					\n		\n				\n						\n					\n			\n						\n				\n					Shawn ArmstrongCSCS\, PN1-NCHead Strength CoachSouth Florence High School 				\n				\n					\n		\n				\n			\n						\n				\n					Trevor HutsonCSCSHead Strength CoachLexington High School 				\n				\n					\n		\n					\n		\n				\n				\n							\n			\n						\n		\n						\n				\n					\n		\n					\n		\n				\n						\n					\n			\n						\n				\n					#FAMILY DAY SCHEDULE				\n				\n				\n				\n					\n		\n			November 16\, 2024\n\n	\n\n	  @  \n\n\n9:30 am\n\n		\n\n\n\n	\n	  -  \n\n12:30 pm\n\n\n\n	\n				\n				\n				\n				\n									8:45-9:30 am – CHECK-IN/REGISTRATION 9:30-9:35 am – WELCOMEOverview of Day’s Activities / Presentations from Trevor Hutson 9:45-11:00 am – LECTUREBuilding Better Bruins at South Florence High by Shawn Armstrong OVERVIEW: Get ready for an inside look at the dynamic strength and conditioning program at South Florence High School! This engaging presentation will break down every key aspect of the program\, giving you insights into what makes it successful and how it develops well-rounded athletes. Here’s what you can expect: Facilities Tour – See the tools and spaces that fuel athletic success.Daily Schedule & Weightlifting Classes – Learn how training fits seamlessly into the academic day.Program Periodization & Design – Discover how the program is structured for peak performance.In-Season vs. Off-Season Strategies (Football) – Understand the adaptations for different phases.Building Athlete ‘Buy-In’ – Explore methods to motivate and engage athletes fully.Bruin Strength Power Program (Nutrition) – See how nutrition plays a crucial role in athlete development.Strength Events – Learn about competitive events that challenge and inspire athletes.Power Clean Progression – Dive into the technique development that powers this core lift.This presentation offers a complete guide to South Florence’s program\, showcasing strategies you can apply to your own athletes for better performance\, buy-in\, and long-term success. Don’t miss out! 11:15-12:30 am – LECTUREBuilding a Complete Athlete at Lexington High School by Trevor Hutson OVERVIEW: Unlock the secrets to designing a comprehensive strength and conditioning program that develops athletes who excel in every area of performance! This presentation dives into strategically combining strength\, power\, speed\, agility\, and endurance to create well-rounded athletes. It’s not just about building strength—it’s about helping athletes thrive in their sports and reducing injury risks. Whether you’re a strength or sports coach\, you’ll leave with practical strategies you can apply immediately. Here’s what’s covered: Introduction to Athletic Performance – Discover the key elements that make up a complete athlete.Strength Training Foundations – Learn the core principles for building solid strength.Power Development – Explore techniques to improve explosive power for better athletic performance.Speed and Agility Training – Understand drills and methods to increase quickness and precision on the field.Endurance Training – See how stamina fits into high-performance programs to keep athletes performing at their peak.Integrating Components into aWeekly Program – Get practical tips on structuring a balanced\, effective training schedule.This presentation will inspire you to take your program to the next level by blending these essential components into a cohesive plan that drives peak performance. Don’t miss this opportunity to build athletes who are stronger\, faster\, and more resilient than ever! 12:30-12:40 am – CLOSING REMARKSTrevor Hutson 								\n				\n					\n		\n					\n		\n				\n						\n					\n			\n						\n				\n							\n			\n						\n		\n						\n				\n				\n				\n					Special 'Thank You' to our partners				\n				\n				\n				\n																\n															\n															\n				\n				\n				\n							\n			\n						\n		\n						\n				\n					\n		\n					\n		\n				\n						\n					\n			\n						\n						\n					\n			\n						\n				\n					\n	\n		\n\n	\n	Add to calendar	\n		\n	\n\n		\n			\n									\n	Google Calendar\n\n									\n	iCalendar\n\n									\n	Outlook 365\n\n									\n	Outlook Live\n\n							\n		\n\n		\n	\n\n				\n				\n					\n		\n					\n		\n				\n				\n							\n			\n						\n		\n						\n				\n					\n		\n					\n		\n				\n						\n					\n			\n						\n				\n					\n	\n	Organizer\n			\n			Trevor Hutson			\n	\n\n	\n	\n					\n						\n	 \n\n\n	 \n\n\n	\n					\n			thutson@lexington1.net			\n	 \n\n\n\n				\n				\n					\n		\n				\n			\n						\n				\n					\n	\n	Venue			\n				\n	\n			\n		Lexington High School			\n	\n	\n	Address:\n	\n\n2463 Augusta Hwy\n	\n		\n		Lexington\,\n\n	SC\n\n	29072\n\n	United States\n\n\n\n\n	+ Google Map \n\n\n	\n					\n						\n	 \n\n\n	\n	 \n\n\n\n	\n\n\n\n		\n	\n				\n				\n					\n		\n					\n		\n				\n						\n					\n			\n						\n						\n					\n			\n						\n				\n							\n			\n						\n		\n						\n				\n				\n				\n					\n	\n		\n\n				2024 Massachusetts Family Day	\n\n\n		\n	\n		2024 Georgia Family Day
URL:https://nhssca.us/event/2024-south-carolina-family-day/
LOCATION:Lexington High School\, 2463 Augusta Hwy\, Lexington\, SC\, 29072\, United States
CATEGORIES:Family Day
ATTACH;FMTTYPE=image/jpeg:https://nhssca.us/wp-content/uploads/2024/10/2024-nhssca-sc-family-day.jpeg
ORGANIZER;CN="Trevor Hutson":MAILTO:thutson@lexington1.net
END:VEVENT
END:VCALENDAR