BEGIN:VCALENDAR
VERSION:2.0
PRODID:-//National High School Strength Coaches Association - ECPv6.15.20//NONSGML v1.0//EN
CALSCALE:GREGORIAN
METHOD:PUBLISH
X-WR-CALNAME:National High School Strength Coaches Association
X-ORIGINAL-URL:https://nhssca.us
X-WR-CALDESC:Events for National High School Strength Coaches Association
REFRESH-INTERVAL;VALUE=DURATION:PT1H
X-Robots-Tag:noindex
X-PUBLISHED-TTL:PT1H
BEGIN:VTIMEZONE
TZID:America/New_York
BEGIN:DAYLIGHT
TZOFFSETFROM:-0500
TZOFFSETTO:-0400
TZNAME:EDT
DTSTART:20240310T070000
END:DAYLIGHT
BEGIN:STANDARD
TZOFFSETFROM:-0400
TZOFFSETTO:-0500
TZNAME:EST
DTSTART:20241103T060000
END:STANDARD
BEGIN:DAYLIGHT
TZOFFSETFROM:-0500
TZOFFSETTO:-0400
TZNAME:EDT
DTSTART:20250309T070000
END:DAYLIGHT
BEGIN:STANDARD
TZOFFSETFROM:-0400
TZOFFSETTO:-0500
TZNAME:EST
DTSTART:20251102T060000
END:STANDARD
BEGIN:DAYLIGHT
TZOFFSETFROM:-0500
TZOFFSETTO:-0400
TZNAME:EDT
DTSTART:20260308T070000
END:DAYLIGHT
BEGIN:STANDARD
TZOFFSETFROM:-0400
TZOFFSETTO:-0500
TZNAME:EST
DTSTART:20261101T060000
END:STANDARD
END:VTIMEZONE
BEGIN:VEVENT
DTSTART;TZID=America/New_York:20251212T083000
DTEND;TZID=America/New_York:20251212T120000
DTSTAMP:20260423T034342
CREATED:20251028T210100Z
LAST-MODIFIED:20251028T210309Z
UID:82308-1765528200-1765540800@nhssca.us
SUMMARY:2025 Alabama Family Social
DESCRIPTION:« All Events\n 				\n				\n				\n				\n					This event has passed. \n				\n				\n				\n				\n					\n	2025 Alabama Family Social				\n				\n				\n				\n					\n		\n			December 12\, 2025\n\n	\n\n	  @  \n\n\n8:30 am\n\n		\n\n\n\n	\n	  -  \n\n12:00 pm\n\n\n\n	\n				\n				\n				\n				\n																														\n				\n					\n		\n					\n		\n				\n						\n					\n			\n						\n				\n					About the NHSSCA Family Social				\n				\n				\n						\n					\n			\n						\n				\n									The NHSSCA Family Social is a relaxed\, relationship-building event that brings together sport coaches\, strength coaches\, and anyone who oversees a high school weight room—along with their families and peers—to connect outside the weight room. Designed to complement our spring clinics and summer NatCon\, these fall gatherings focus on conversation over presentations\, creating space for coaches to share ideas\, celebrate wins\, and support one another in community.								\n				\n					\n		\n					\n		\n					\n		\n					\n		\n				\n						\n					\n			\n						\n						\n					\n			\n						\n				\n					\n	\n		\n\n	\n	Add to calendar	\n		\n	\n\n		\n			\n									\n	Google Calendar\n\n									\n	iCalendar\n\n									\n	Outlook 365\n\n									\n	Outlook Live\n\n							\n		\n\n		\n	\n\n				\n				\n					\n		\n					\n		\n				\n				\n							\n			\n						\n		\n						\n				\n					\n		\n					\n		\n				\n						\n					\n			\n						\n				\n					\n	\n	Organizer\n			\n			Kade McGee			\n	\n\n	\n	\n					\n						\n	 \n\n\n	 \n\n\n	\n					\n			kade.mcgee@opelikaschools.org			\n	 \n\n\n\n				\n				\n					\n		\n				\n			\n						\n				\n					\n	\n	Venues			\n				\n	\n			\n		Enterprise High School			\n	\n	\n	Address:\n	\n\n1801 Boll Weevil Circle\n	\n		\n		Enterprise\,\n\n	AL\n\n	39330\n\n	United States\n\n\n\n\n	+ Google Map \n\n\n	\n					\n						\n	 \n\n\n	\n	 \n\n\n\n	\n\n\n\n		\n			\n				\n	\n			\n		Briarwood Christian School			\n	\n	\n	Address:\n	\n\n6255 Cahaba Valley Rd\n	\n		\n		Birmingham\,\n\n\n	35242\n\n	United States\n\n\n\n\n	+ Google Map \n\n\n	\n					\n						\n	 \n\n\n	\n	 \n\n\n\n	\n\n\n\n		\n			\n				\n	\n			\n		Madison Academy			\n	\n	\n	Address:\n	\n\n325 Slaughter Rd\n	\n		\n		Madison\,\n\n\n	35758\n\n	United States\n\n\n\n\n	+ Google Map \n\n\n	\n					\n						\n	 \n\n\n	\n	 \n\n\n\n	\n\n\n\n		\n	\n				\n				\n					\n		\n					\n		\n				\n						\n					\n			\n						\n				\n							\n			\n						\n		\n						\n				\n				\n				\n					Special 'Thank You' to our partners				\n				\n				\n				\n																\n															\n															\n				\n				\n				\n							\n			\n						\n		\n						\n				\n					\n		\n					\n		\n				\n						\n					\n			\n						\n						\n					\n			\n						\n				\n							\n			\n						\n		\n						\n				\n				\n				\n					\n	\n		\n\n				2025 NHSSCA Mississippi Family Social	\n\n\n		\n	\n		2025 NHSSCA Tennessee Family Social
URL:https://nhssca.us/event/2025-alabama-family-social/
LOCATION:Enterprise High School\, 1801 Boll Weevil Circle\, Enterprise\, AL\, 39330\, United States
CATEGORIES:Family Day
ATTACH;FMTTYPE=image/webp:https://nhssca.us/wp-content/uploads/2025/10/2025-NHSSCA-AL-Family-Social.webp
ORGANIZER;CN="Kade McGee":MAILTO:kade.mcgee@opelikaschools.org
END:VEVENT
END:VCALENDAR