BEGIN:VCALENDAR
VERSION:2.0
PRODID:-//National High School Strength Coaches Association - ECPv6.15.20//NONSGML v1.0//EN
CALSCALE:GREGORIAN
METHOD:PUBLISH
X-WR-CALNAME:National High School Strength Coaches Association
X-ORIGINAL-URL:https://nhssca.us
X-WR-CALDESC:Events for National High School Strength Coaches Association
REFRESH-INTERVAL;VALUE=DURATION:PT1H
X-Robots-Tag:noindex
X-PUBLISHED-TTL:PT1H
BEGIN:VTIMEZONE
TZID:America/New_York
BEGIN:DAYLIGHT
TZOFFSETFROM:-0500
TZOFFSETTO:-0400
TZNAME:EDT
DTSTART:20240310T070000
END:DAYLIGHT
BEGIN:STANDARD
TZOFFSETFROM:-0400
TZOFFSETTO:-0500
TZNAME:EST
DTSTART:20241103T060000
END:STANDARD
BEGIN:DAYLIGHT
TZOFFSETFROM:-0500
TZOFFSETTO:-0400
TZNAME:EDT
DTSTART:20250309T070000
END:DAYLIGHT
BEGIN:STANDARD
TZOFFSETFROM:-0400
TZOFFSETTO:-0500
TZNAME:EST
DTSTART:20251102T060000
END:STANDARD
BEGIN:DAYLIGHT
TZOFFSETFROM:-0500
TZOFFSETTO:-0400
TZNAME:EDT
DTSTART:20260308T070000
END:DAYLIGHT
BEGIN:STANDARD
TZOFFSETFROM:-0400
TZOFFSETTO:-0500
TZNAME:EST
DTSTART:20261101T060000
END:STANDARD
END:VTIMEZONE
BEGIN:VEVENT
DTSTART;TZID=America/New_York:20251206T120000
DTEND;TZID=America/New_York:20251206T140000
DTSTAMP:20260424T215423
CREATED:20251025T164352Z
LAST-MODIFIED:20251201T192212Z
UID:82177-1765022400-1765029600@nhssca.us
SUMMARY:2025-26 Oklahoma Family Social
DESCRIPTION:« All Events\n 				\n				\n				\n				\n					This event has passed. \n				\n				\n				\n				\n					\n	2025-26 Oklahoma Family Social				\n				\n				\n						\n					\n			\n						\n				\n									2025 EventSaturday\, December 6\, 2025 at 12:00-2:00 pm | Pub W\, 10740 S May Ave\, Oklahoma City\, OK 73170 								\n				\n					\n		\n				\n			\n						\n				\n									2026 EventFriday\, January 9\, 2026 at 1:00-3:30 pm | McNellie’s South City\, 7031 S Zurich Ave\, Tulsa\, OK 74136 								\n				\n					\n		\n					\n		\n				\n				\n																														\n				\n					\n		\n					\n		\n				\n						\n					\n			\n						\n				\n					About the NHSSCA Family Social				\n				\n				\n						\n					\n			\n						\n				\n									The NHSSCA Family Social is a relaxed\, relationship-building event that brings together sport coaches\, strength coaches\, and anyone who oversees a high school weight room—along with their families and peers—to connect outside the weight room. Designed to complement our spring clinics and summer NatCon\, these fall gatherings focus on conversation over presentations\, creating space for coaches to share ideas\, celebrate wins\, and support one another in community. We are hosting two separate events on two separate days in Oklahoma. The Pub W\, OKC Event will be hosted on Saturday\, December 6th.The McNellie’s Tulsa\, OK Event will be hosted on Friday\, January 9th.								\n				\n					\n		\n					\n		\n					\n		\n					\n		\n				\n						\n					\n			\n						\n				\n					\n	Who's Attending\n	\n		10 people are attending 2025-26 Oklahoma Family Social	 \n\n	\n					\n					\n			\n\n				\n				\n				\n						\n					\n			\n						\n				\n					\n	\n		\n\n	\n	Add to calendar	\n		\n	\n\n		\n			\n									\n	Google Calendar\n\n									\n	iCalendar\n\n									\n	Outlook 365\n\n									\n	Outlook Live\n\n							\n		\n\n		\n	\n\n				\n				\n					\n		\n					\n		\n				\n				\n							\n			\n						\n		\n						\n				\n					\n		\n					\n		\n				\n						\n					\n			\n						\n				\n					\n	\n	Organizers\n			\n			Colin Roberts			\n	\n\n			\n			Jerryd Nelson			\n	\n\n				\n				\n					\n		\n				\n			\n						\n				\n					\n	\n	Venues			\n				\n	\n			\n		McNellie’s South City – 01-09-2026			\n	\n	\n	Address:\n	\n\n7031 S Zurich Ave\n	\n		\n		Tulsa\,\,\n\n	OK\n\n	74136\n\n	United States\n\n\n\n\n	+ Google Map \n\n\n	\n					\n						\n	 \n\n\n	\n	 \n\n\n\n	\n\n\n\n		\n			\n				\n	\n			\n		Pub W – 12/06/2025			\n	\n	\n	Address:\n	\n\n10740 S May Ave\n	\n		\n		Oklahoma City\,\n\n	OK\n\n	73170\n\n	United States\n\n\n\n\n	+ Google Map \n\n\n	\n					\n						\n	 \n\n\n	\n	 \n\n\n\n	\n\n\n\n		\n	\n				\n				\n					\n		\n					\n		\n				\n						\n					\n			\n						\n				\n							\n			\n						\n		\n						\n				\n				\n				\n					Special 'Thank You' to our partners				\n				\n				\n				\n																\n															\n															\n				\n				\n				\n							\n			\n						\n		\n						\n				\n					\n		\n					\n		\n				\n						\n					\n			\n						\n						\n					\n			\n						\n				\n							\n			\n						\n		\n						\n				\n				\n				\n					\n	\n		\n\n				2025 South Carolina Family Socials	\n\n\n		\n	\n		2025 NHSSCA Mississippi Family Social
URL:https://nhssca.us/event/2025-oklahoma-family-social/
LOCATION:McNellie’s South City – 01-09-2026\, 7031 S Zurich Ave\, Tulsa\,\, OK\, 74136\, United States
CATEGORIES:Family Day
ATTACH;FMTTYPE=image/webp:https://nhssca.us/wp-content/uploads/2025/10/2025-NHSSCA-OK-Family-Social-2.webp
ORGANIZER;CN="Colin Roberts":MAILTO:colinroberts@dcsok.org
END:VEVENT
END:VCALENDAR