BEGIN:VCALENDAR
VERSION:2.0
PRODID:-//National High School Strength Coaches Association - ECPv6.15.20//NONSGML v1.0//EN
CALSCALE:GREGORIAN
METHOD:PUBLISH
X-WR-CALNAME:National High School Strength Coaches Association
X-ORIGINAL-URL:https://nhssca.us
X-WR-CALDESC:Events for National High School Strength Coaches Association
REFRESH-INTERVAL;VALUE=DURATION:PT1H
X-Robots-Tag:noindex
X-PUBLISHED-TTL:PT1H
BEGIN:VTIMEZONE
TZID:America/New_York
BEGIN:DAYLIGHT
TZOFFSETFROM:-0500
TZOFFSETTO:-0400
TZNAME:EDT
DTSTART:20250309T070000
END:DAYLIGHT
BEGIN:STANDARD
TZOFFSETFROM:-0400
TZOFFSETTO:-0500
TZNAME:EST
DTSTART:20251102T060000
END:STANDARD
BEGIN:DAYLIGHT
TZOFFSETFROM:-0500
TZOFFSETTO:-0400
TZNAME:EDT
DTSTART:20260308T070000
END:DAYLIGHT
BEGIN:STANDARD
TZOFFSETFROM:-0400
TZOFFSETTO:-0500
TZNAME:EST
DTSTART:20261101T060000
END:STANDARD
BEGIN:DAYLIGHT
TZOFFSETFROM:-0500
TZOFFSETTO:-0400
TZNAME:EDT
DTSTART:20270314T070000
END:DAYLIGHT
BEGIN:STANDARD
TZOFFSETFROM:-0400
TZOFFSETTO:-0500
TZNAME:EST
DTSTART:20271107T060000
END:STANDARD
END:VTIMEZONE
BEGIN:VEVENT
DTSTART;TZID=America/New_York:20260424T083000
DTEND;TZID=America/New_York:20260424T143000
DTSTAMP:20260420T113837
CREATED:20260319T122448Z
LAST-MODIFIED:20260319T123436Z
UID:10000186-1777019400-1777041000@nhssca.us
SUMMARY:2026 NHSSCA Colorado State Clinic
DESCRIPTION:Special Thank you to our Partners				\n				\n				\n				\n																\n															\n															\n				\n					\n		\n					\n		\n				\n				\n							\n			\n						\n		\n						\n				\n					\n		\n					\n		\n				\n						\n					\n			\n						\n						\n					\n			\n						\n				\n					#FAMILY DAY PRESENTERS				\n				\n					\n		\n					\n		\n				\n						\n					\n			\n						\n				\n					PJ MusicoSports Performance Coach (Hockey)Orange Lutheran High School 				\n				\n					\n		\n				\n			\n						\n				\n					Chase SandersSports Performance CoachOrange Lutheran High School 				\n				\n					\n		\n					\n		\n				\n				\n							\n			\n						\n		\n						\n				\n					\n		\n					\n		\n				\n						\n					\n			\n						\n				\n					#FAMILY DAY SCHEDULE				\n				\n				\n				\n									8:00-8:30 am – CHECK-IN/REGISTRATION 8:30-8:45 am – WELCOMEOverview of Day’s Activities / PresentationsRyan Nguyen\, Performance Coach\, Orange Lutheran High School 8:45-9:45 am – DUAL: LECTURE/HANDS-ONBalancing an Academy-Style Training Program with High School Hockey by PJ Musico OVERVIEW: Orange Lutheran High School provides a unique Ice Hockey Academy model of academics & athletics. The off-campus facility\, coaching staff\, and teaching model differs from the usual high school experience & sports performance schedule. Coach PJ Musico has been with the Academy for over four years and seen a lot develop within the Orange Lutheran Sports Performance Department. A balance between ice time\, general preparation\, and sports specific training- Coach Musico offers a perspective that can give the audience a glimpse of how future academy-style high schools can integrate strength & conditioning. 10:00-11:00 am – DUAL: LECTURE/HANDS-ONTransitioning from College to High School: A Practical Approach to Keeping It Simple by Chase Sanders OVERVIEW: Coach Sanders is entering his second year at Orange Lutheran High School after coming from Cal Poly Pomona\, where he spent over six years as the Head Strength and conditioning Coach. His perspective allows other collegiate coaches to see what a high-volume\, fast-paced high school environment looks like on a daily basis and how he continues to expand & evolve his programming since the transition. Whether it is almost 60+ athletes to yourself or having 5-6 athletes sharing one rack within a session- Chase will teach the audience how to keep training & cueing simple while maintaining the end goal in mind. 11:00-11:45 pm – ROUNDTABLE 11:45-12:00 am – CLOSING REMARKSRyan Nguyen\, Performance Coach\, Orange Lutheran High School
URL:https://nhssca.us/event/2026-nhssca-colorado-state-clinic/
LOCATION:Holy Family High School\, 5195 W 144th Ave\, Broomfield\,\, CO\, 80023\, United States
CATEGORIES:State Clinic
ATTACH;FMTTYPE=image/webp:https://nhssca.us/wp-content/uploads/2026/03/2026-NHSSCA-CO-State-Clinic.webp
ORGANIZER;CN="Everett Ridderbos":MAILTO:everett.ridderbos@holyfamilyhs.com
END:VEVENT
BEGIN:VEVENT
DTSTART;TZID=America/New_York:20260523T080000
DTEND;TZID=America/New_York:20260523T160000
DTSTAMP:20260420T113837
CREATED:20260416T153757Z
LAST-MODIFIED:20260416T154619Z
UID:10000189-1779523200-1779552000@nhssca.us
SUMMARY:2026 NHSSCA Idaho State Clinic
DESCRIPTION:Special Thank you to our Partners				\n				\n				\n				\n																\n															\n															\n				\n					\n		\n					\n		\n				\n				\n							\n			\n						\n		\n						\n				\n					\n		\n					\n		\n				\n						\n					\n			\n						\n						\n					\n			\n						\n				\n					#FAMILY DAY PRESENTERS				\n				\n					\n		\n					\n		\n				\n						\n					\n			\n						\n				\n					PJ MusicoSports Performance Coach (Hockey)Orange Lutheran High School 				\n				\n					\n		\n				\n			\n						\n				\n					Chase SandersSports Performance CoachOrange Lutheran High School 				\n				\n					\n		\n					\n		\n				\n				\n							\n			\n						\n		\n						\n				\n					\n		\n					\n		\n				\n						\n					\n			\n						\n				\n					#FAMILY DAY SCHEDULE				\n				\n				\n				\n									8:00-8:30 am – CHECK-IN/REGISTRATION 8:30-8:45 am – WELCOMEOverview of Day’s Activities / PresentationsRyan Nguyen\, Performance Coach\, Orange Lutheran High School 8:45-9:45 am – DUAL: LECTURE/HANDS-ONBalancing an Academy-Style Training Program with High School Hockey by PJ Musico OVERVIEW: Orange Lutheran High School provides a unique Ice Hockey Academy model of academics & athletics. The off-campus facility\, coaching staff\, and teaching model differs from the usual high school experience & sports performance schedule. Coach PJ Musico has been with the Academy for over four years and seen a lot develop within the Orange Lutheran Sports Performance Department. A balance between ice time\, general preparation\, and sports specific training- Coach Musico offers a perspective that can give the audience a glimpse of how future academy-style high schools can integrate strength & conditioning. 10:00-11:00 am – DUAL: LECTURE/HANDS-ONTransitioning from College to High School: A Practical Approach to Keeping It Simple by Chase Sanders OVERVIEW: Coach Sanders is entering his second year at Orange Lutheran High School after coming from Cal Poly Pomona\, where he spent over six years as the Head Strength and conditioning Coach. His perspective allows other collegiate coaches to see what a high-volume\, fast-paced high school environment looks like on a daily basis and how he continues to expand & evolve his programming since the transition. Whether it is almost 60+ athletes to yourself or having 5-6 athletes sharing one rack within a session- Chase will teach the audience how to keep training & cueing simple while maintaining the end goal in mind. 11:00-11:45 pm – ROUNDTABLE 11:45-12:00 am – CLOSING REMARKSRyan Nguyen\, Performance Coach\, Orange Lutheran High School
URL:https://nhssca.us/event/2026-nhssca-idaho-state-clinic/
LOCATION:Idaho State University\, 560 N Memorial Drive\, Pocatello\, ID\, 83201\, United States
CATEGORIES:State Clinic
ATTACH;FMTTYPE=image/webp:https://nhssca.us/wp-content/uploads/2026/04/2026-NHSSCA-ID-State-Clinic.webp
ORGANIZER;CN="Justin Goff-Burch":MAILTO:jburch@sd251.org
END:VEVENT
BEGIN:VEVENT
DTSTART;TZID=America/New_York:20260523T090000
DTEND;TZID=America/New_York:20260523T120000
DTSTAMP:20260420T113837
CREATED:20260411T102144Z
LAST-MODIFIED:20260411T103724Z
UID:10000188-1779526800-1779537600@nhssca.us
SUMMARY:2026 NHSSCA Kentucky FAMILY SOCIAL
DESCRIPTION:Special Thank you to our Partners				\n				\n				\n				\n																\n															\n															\n				\n					\n		\n					\n		\n				\n				\n							\n			\n						\n		\n						\n				\n					\n		\n					\n		\n				\n						\n					\n			\n						\n						\n					\n			\n						\n				\n					#FAMILY DAY PRESENTERS				\n				\n					\n		\n					\n		\n				\n						\n					\n			\n						\n				\n					PJ MusicoSports Performance Coach (Hockey)Orange Lutheran High School 				\n				\n					\n		\n				\n			\n						\n				\n					Chase SandersSports Performance CoachOrange Lutheran High School 				\n				\n					\n		\n					\n		\n				\n				\n							\n			\n						\n		\n						\n				\n					\n		\n					\n		\n				\n						\n					\n			\n						\n				\n					#FAMILY DAY SCHEDULE				\n				\n				\n				\n									8:00-8:30 am – CHECK-IN/REGISTRATION 8:30-8:45 am – WELCOMEOverview of Day’s Activities / PresentationsRyan Nguyen\, Performance Coach\, Orange Lutheran High School 8:45-9:45 am – DUAL: LECTURE/HANDS-ONBalancing an Academy-Style Training Program with High School Hockey by PJ Musico OVERVIEW: Orange Lutheran High School provides a unique Ice Hockey Academy model of academics & athletics. The off-campus facility\, coaching staff\, and teaching model differs from the usual high school experience & sports performance schedule. Coach PJ Musico has been with the Academy for over four years and seen a lot develop within the Orange Lutheran Sports Performance Department. A balance between ice time\, general preparation\, and sports specific training- Coach Musico offers a perspective that can give the audience a glimpse of how future academy-style high schools can integrate strength & conditioning. 10:00-11:00 am – DUAL: LECTURE/HANDS-ONTransitioning from College to High School: A Practical Approach to Keeping It Simple by Chase Sanders OVERVIEW: Coach Sanders is entering his second year at Orange Lutheran High School after coming from Cal Poly Pomona\, where he spent over six years as the Head Strength and conditioning Coach. His perspective allows other collegiate coaches to see what a high-volume\, fast-paced high school environment looks like on a daily basis and how he continues to expand & evolve his programming since the transition. Whether it is almost 60+ athletes to yourself or having 5-6 athletes sharing one rack within a session- Chase will teach the audience how to keep training & cueing simple while maintaining the end goal in mind. 11:00-11:45 pm – ROUNDTABLE 11:45-12:00 am – CLOSING REMARKSRyan Nguyen\, Performance Coach\, Orange Lutheran High School
URL:https://nhssca.us/event/2026-nhssca-kentucky-family-social/
LOCATION:Frederick Douglass High School\, 2000 Winchester Rd\, Lexington\,\, KY\, 40509\, United States
CATEGORIES:Family Day
ATTACH;FMTTYPE=image/webp:https://nhssca.us/wp-content/uploads/2026/04/2026-NHSSCA-KY-Family-Day.webp
ORGANIZER;CN="Ed Towle":MAILTO:wtscoach@gmail.com
END:VEVENT
BEGIN:VEVENT
DTSTART;TZID=America/New_York:20260619T080000
DTEND;TZID=America/New_York:20260620T170000
DTSTAMP:20260420T113837
CREATED:20260105T142141Z
LAST-MODIFIED:20260419T182525Z
UID:10000174-1781856000-1781974800@nhssca.us
SUMMARY:2026 NHSSCA National Conference — 10-Year Anniversary
DESCRIPTION:Special Thank you to our Partners				\n				\n				\n				\n																\n															\n															\n				\n					\n		\n					\n		\n				\n				\n							\n			\n						\n		\n						\n				\n					\n		\n					\n		\n				\n						\n					\n			\n						\n						\n					\n			\n						\n				\n					#FAMILY DAY PRESENTERS				\n				\n					\n		\n					\n		\n				\n						\n					\n			\n						\n				\n					PJ MusicoSports Performance Coach (Hockey)Orange Lutheran High School 				\n				\n					\n		\n				\n			\n						\n				\n					Chase SandersSports Performance CoachOrange Lutheran High School 				\n				\n					\n		\n					\n		\n				\n				\n							\n			\n						\n		\n						\n				\n					\n		\n					\n		\n				\n						\n					\n			\n						\n				\n					#FAMILY DAY SCHEDULE				\n				\n				\n				\n									8:00-8:30 am – CHECK-IN/REGISTRATION 8:30-8:45 am – WELCOMEOverview of Day’s Activities / PresentationsRyan Nguyen\, Performance Coach\, Orange Lutheran High School 8:45-9:45 am – DUAL: LECTURE/HANDS-ONBalancing an Academy-Style Training Program with High School Hockey by PJ Musico OVERVIEW: Orange Lutheran High School provides a unique Ice Hockey Academy model of academics & athletics. The off-campus facility\, coaching staff\, and teaching model differs from the usual high school experience & sports performance schedule. Coach PJ Musico has been with the Academy for over four years and seen a lot develop within the Orange Lutheran Sports Performance Department. A balance between ice time\, general preparation\, and sports specific training- Coach Musico offers a perspective that can give the audience a glimpse of how future academy-style high schools can integrate strength & conditioning. 10:00-11:00 am – DUAL: LECTURE/HANDS-ONTransitioning from College to High School: A Practical Approach to Keeping It Simple by Chase Sanders OVERVIEW: Coach Sanders is entering his second year at Orange Lutheran High School after coming from Cal Poly Pomona\, where he spent over six years as the Head Strength and conditioning Coach. His perspective allows other collegiate coaches to see what a high-volume\, fast-paced high school environment looks like on a daily basis and how he continues to expand & evolve his programming since the transition. Whether it is almost 60+ athletes to yourself or having 5-6 athletes sharing one rack within a session- Chase will teach the audience how to keep training & cueing simple while maintaining the end goal in mind. 11:00-11:45 pm – ROUNDTABLE 11:45-12:00 am – CLOSING REMARKSRyan Nguyen\, Performance Coach\, Orange Lutheran High School
URL:https://nhssca.us/event/2026-nhssca-national-conference-10-year-anniversary/
LOCATION:Muskego High School\, W183 S8750 Racine Avenue\, Muskego\, WI\, 53150\, United States
CATEGORIES:National Conference
ATTACH;FMTTYPE=image/webp:https://nhssca.us/wp-content/uploads/2026/01/nhssca-natcon-10-year-anniversary-featured-scaled.webp
ORGANIZER;CN="Steve Schween":MAILTO:schweens@vailschooldistrict.org
END:VEVENT
END:VCALENDAR