BEGIN:VCALENDAR
VERSION:2.0
PRODID:-//National High School Strength Coaches Association - ECPv6.15.20//NONSGML v1.0//EN
CALSCALE:GREGORIAN
METHOD:PUBLISH
X-WR-CALNAME:National High School Strength Coaches Association
X-ORIGINAL-URL:https://nhssca.us
X-WR-CALDESC:Events for National High School Strength Coaches Association
REFRESH-INTERVAL;VALUE=DURATION:PT1H
X-Robots-Tag:noindex
X-PUBLISHED-TTL:PT1H
BEGIN:VTIMEZONE
TZID:America/New_York
BEGIN:DAYLIGHT
TZOFFSETFROM:-0500
TZOFFSETTO:-0400
TZNAME:EDT
DTSTART:20230312T070000
END:DAYLIGHT
BEGIN:STANDARD
TZOFFSETFROM:-0400
TZOFFSETTO:-0500
TZNAME:EST
DTSTART:20231105T060000
END:STANDARD
BEGIN:DAYLIGHT
TZOFFSETFROM:-0500
TZOFFSETTO:-0400
TZNAME:EDT
DTSTART:20240310T070000
END:DAYLIGHT
BEGIN:STANDARD
TZOFFSETFROM:-0400
TZOFFSETTO:-0500
TZNAME:EST
DTSTART:20241103T060000
END:STANDARD
BEGIN:DAYLIGHT
TZOFFSETFROM:-0500
TZOFFSETTO:-0400
TZNAME:EDT
DTSTART:20250309T070000
END:DAYLIGHT
BEGIN:STANDARD
TZOFFSETFROM:-0400
TZOFFSETTO:-0500
TZNAME:EST
DTSTART:20251102T060000
END:STANDARD
BEGIN:DAYLIGHT
TZOFFSETFROM:-0500
TZOFFSETTO:-0400
TZNAME:EDT
DTSTART:20260308T070000
END:DAYLIGHT
BEGIN:STANDARD
TZOFFSETFROM:-0400
TZOFFSETTO:-0500
TZNAME:EST
DTSTART:20261101T060000
END:STANDARD
END:VTIMEZONE
BEGIN:VEVENT
DTSTART;TZID=America/New_York:20250719T100000
DTEND;TZID=America/New_York:20250719T163000
DTSTAMP:20260424T130916
CREATED:20250520T234616Z
LAST-MODIFIED:20250715T125509Z
UID:10000152-1752919200-1752942600@nhssca.us
SUMMARY:2025 NHSSCA Texas State Clinic
DESCRIPTION:« All Events\n \n\n	2025 NHSSCA Texas State Clinic\n			July 19\, 2025\n	  @\n10:00 am\n	  –\n4:30 pm \nState Clinic PRESENTERS\n\nJeremy Walden\nUSAW-1\, CSCS\, HSSCCDirector of Sports PerformanceLufkin High School \n\nNick Mascioli\nM.S\, CSCSDirector of Athletic PerformanceSecond Baptist High School \n\nTriva Corrales\nExecutive Athletic DirectorJudson ISD \n\nBret Huth\nM.S\, SCCCStrength & Conditioning / Assistant Head Coach FootballTexas State University \nState Clinic SCHEDULE\n			July 19\, 2025\n	  @\n10:00 am\n	  –\n4:30 pm \n10:00-10:30 pm – CHECK-IN/REGISTRATION \n10:35-10:40 am – WELCOMEOverview of Day’s Activities & Presentations from Coach Elton Crochran\, Head Strength and Conditioning Coach\, Judson ISD\, and Coach Leo Burks\, Director of Athletic Performance\, Waco High School Coach \n10:40-11:55 am – LECTUREThe Clean Progression: A Systemic Approach in the Team Setting by Bret Huth \nOVERVIEW: In this session\, Coach Bret Huth shares a progressive\, system-based approach to teaching the clean—developed through his work with collegiate athletes at Texas State. Ideal for high school and collegiate team settings\, this method simplifies the complexity of Olympic lifting while building athlete confidence and movement proficiency. \nKey Highlights: \n\nFoundational First: Begin with essential base movements like the clean pull and front squat to build strength\, structure\, and technical control.\nProgressive Variations: Advance athletes through a clear progression—clean from blocks\, from the hang\, and finally from the floor.\nTechnical Emphasis: Prioritize consistent technique\, positional awareness\, and controlled movement to minimize errors and reinforce habits.\nReadiness-Based Advancement: Ensure athletes only move forward in the progression when they’ve mastered the prior phase—improving long-term performance and reducing injury risk.\nTeam-Friendly Application: Learn how to apply this system effectively across large groups with varying skill levels\, time constraints\, and facility limitations.\n\nAttendees will leave with a practical framework to simplify Olympic lift instruction and build a more technically sound\, confident team in the weight room. \n12:00-1:15 am – LECTUREUnleashing Power: Building Explosive Hitters\, Kickers\, and Throwers by Jeremy Walden \nOVERVIEW: In this high-impact session\, Coach Jeremy Walden delves into sport-specific training strategies designed to unlock explosive power in athletes who participate in sports that involve hitting\, kicking\, or throwing. Built on years of experience in real-world training environments\, this presentation provides actionable insights that directly translate to enhanced on-field performance. \nKey Highlights: \n\nRotational & Linear Power Development: Explore how to train both movement types for maximum carryover to sport-specific actions.\nMovement Pattern Mastery: Learn the foundational patterns behind powerful throws\, kicks\, and swings—and how to coach them effectively.\nForce Production Techniques: Discover methods to develop rate of force\, reactive strength\, and transfer of power in dynamic settings.\nSport-Specific Programming: Get practical tools to build and periodize training blocks tailored to athletes in rotational or linear power sports.\nReal-World Application: See how these strategies are implemented in diverse athletic settings\, from weight room to competition day.\n\nAttendees will leave with clear\, coach-tested strategies to help their athletes move with greater intent\, generate more force\, and dominate in their sport-specific roles. \n1:15-2:00 pm – LUNCH PROVIDED \nMore Than a Meal\, It’s a Networking Opportunity: Lunch at the NHSSCA Clinic is not just about grabbing a plate and catching up with your usual circle. It’s a chance to collaborate\, share\, and expand your professional network. Whether you’re a seasoned veteran or just stepping into the field of high school strength and conditioning\, this is your moment to connect with coaches who inspire\, mentor\, and challenge you to grow. \nIf you leave this clinic without making at least one new connection\, you’ve missed an incredible opportunity to grow professionally and personally. The NHSSCA is more than an organization—it’s a #FAMILY\, built on shared knowledge\, support\, and a commitment to making each other better. \nSo\, don’t just eat—engage\, listen\, and learn. The people sitting around you might change how you approach coaching forever. Let’s make this lunch one to remember! #NHSSCA #FAMILY #CoachingConnections #GrowYourNetwork \n2:00-3:15 pm – LECTURECreating the Strength and Conditioning Position in Public High Schools by Coach Triva Corrales \nOVERVIEW: In this impactful session\, Coach Triva Corrales shares a step-by-step guide for establishing a full-time strength and conditioning role within public high schools. Based on her own journey\, this session provides practical strategies to advocate for the position\, build trust with stakeholders\, and create a lasting impact on athletic development across campus. \nKey Highlights: \n\nMaking the Case: Learn how to effectively communicate the value of a dedicated strength coach to administrators and decision-makers.\nBuilding Support: Explore strategies for forming strong relationships with sport coaches\, parents\, and academic staff.\nLaying the Foundation: Discover how to design a training culture that supports all sports—not just one team or season.\nSustainability & Growth: Gain insight into structuring the role for long-term success\, including funding\, staffing\, and scheduling.\nReal-World Blueprint: Walk away with actionable tips\, language\, and resources to begin—or continue—building your program today.\n\nWhether you’re starting from scratch or looking to solidify your role\, this session will empower you to advocate for your profession and better serve your student-athletes. \n3:20-4:15 pm – LECTURECoaching the Gen Z AthletePresented by Coach Nick Mascioli \nOVERVIEW: \nToday’s athletes aren’t just different—they’re Gen Z\, and they bring a new set of expectations\, communication styles\, and motivational drivers into the weight room. In this engaging session\, Coach Nick Mascioli breaks down what makes Gen Z tick and provides practical tools for coaching them more effectively. \nKey Highlights: \n\nUnderstand What Drives Gen Z: Explore the core values\, behaviors\, and influences shaping today’s athletes.\nModern Communication Tactics: Learn how to deliver feedback and instruction in ways that resonate and motivate.\nBuild Authentic Relationships: Discover strategies for establishing trust\, connection\, and respect with your athletes.\nPromote Accountability & Buy-In: Foster a culture where athletes take ownership of their development.\nMaximize Engagement: Create sessions that keep athletes mentally and physically invested\, using approaches aligned with how they learn best.\n\nWhether you’re new to coaching or a seasoned veteran\, this session will give you fresh insight into unlocking the full potential of the next generation of athletes. \n4:15-4:30 pm – CLOSING REMARKSCoach Elton Crochran & Leo Burks \nSpecial ‘Thank You’ to our partners\n																\n															\n		\n\n	Who's coming?\n\n	44 people are attending 2025 NHSSCA Texas State Clinic \n	\n		\n	\n		\n	\n		\n	\n		\n	\n		\n	\n		\n	\n		\n	\n		\n	\n		\n	\n		\n	\n		\n	\n		\n	\n		\n	\n		\n	\n		 \n\n		\n		\n		\n		\n \n\n	Tickets\nWho's coming?\n		The numbers below include tickets for this event already in your cart. Clicking “Get Tickets” will allow you to edit any existing attendee information as well as change ticket quantities.\n				2025 NHSSCA Texas State Clinic – Non-Member\n	2025 NHSSCA Texas State // Non-Member // Admit 1\n					$\n					100.00\n	Unlimited\n			\n	Decrease ticket quantity for 2025 NHSSCA Texas State Clinic – Non-Member\n	–\n	\n		Quantity	\n	\n		\n	Increase ticket quantity for 2025 NHSSCA Texas State Clinic – Non-Member\n	+\n	\n		\n		Hide my attendee data from public view.	\n				2025 NHSSCA Texas State Clinic – Standard Member\n	2025 NHSSCA Texas State // Standard Member // Admit 1\n					$\n					75.00\n	Unlimited\n			\n	Decrease ticket quantity for 2025 NHSSCA Texas State Clinic – Standard Member\n	–\n	\n		Quantity	\n	\n		\n	Increase ticket quantity for 2025 NHSSCA Texas State Clinic – Standard Member\n	+\n	\n		\n		Hide my attendee data from public view.	\n				2025 NHSSCA Texas State Clinic – Professional Member\n	2025 NHSSCA Texas State // Professional Member // Admit 1\n					$\n					50.00\n	Unlimited\n			\n	Decrease ticket quantity for 2025 NHSSCA Texas State Clinic – Professional Member\n	–\n	\n		Quantity	\n	\n		\n	Increase ticket quantity for 2025 NHSSCA Texas State Clinic – Professional Member\n	+\n	\n		\n		Hide my attendee data from public view.	\n				2025 NHSSCA Texas State Clinic – Student Member\n	2025 NHSSCA Texas State // Student Member // Admit 1\n					$\n					35.00\n	Unlimited\n			\n	Decrease ticket quantity for 2025 NHSSCA Texas State Clinic – Student Member\n	–\n	\n		Quantity	\n	\n		\n	Increase ticket quantity for 2025 NHSSCA Texas State Clinic – Student Member\n	+\n	\n		\n		Hide my attendee data from public view.	\n		Quantity:\n	0\n		Total:\n					$\n					0.00\n	Get Tickets\n	\n	\n\n	\n	\n\n	\n	\n\n			\n\n	\n	Add to calendar	\n		\n	\n \n\n\n	Google Calendar\n\n\n	iCalendar\n\n\n	Outlook 365\n\n\n	Outlook Live\n\n\n\n	Organizer\n\n			\n			Elton Crochran			\n	\n\n					\n						\n	 \n\n\n					\n			coachcroc2@gmail.com			\n	 \n\n	Venue\n\n			\n		Veterans Memorial High School			\n	\n\n	Address:\n\n7618 E Evans Rd\n		\n		San Antonio\,\n	TX\n	78266\n	United States\n\n\n	+ Google Map \n\n					\n						\n	 \n\n\n \n\n\n\n\n				NHSSCA Athletic Directors Conference
URL:https://nhssca.us/event/2025-nhssca-texas-state-clinic/
LOCATION:Veterans Memorial High School\, 7618 E Evans Rd\, San Antonio\, TX\, 78266\, United States
CATEGORIES:State Clinic
ATTACH;FMTTYPE=image/webp:https://nhssca.us/wp-content/uploads/2025/05/2025-tx-state-clinic.webp
ORGANIZER;CN="Elton Crochran":MAILTO:coachcroc2@gmail.com
END:VEVENT
BEGIN:VEVENT
DTSTART;TZID=America/New_York:20250412T110000
DTEND;TZID=America/New_York:20250412T140000
DTSTAMP:20260424T130916
CREATED:20250314T021449Z
LAST-MODIFIED:20250315T204924Z
UID:10000148-1744455600-1744466400@nhssca.us
SUMMARY:2025 NHSSCA Texas Family Day
DESCRIPTION:« All Events\n \n\n	2025 NHSSCA Texas Family Day\n			April 12\, 2025\n	  @\n11:00 am\n	  –\n2:00 pm \nFAMILY DAY PRESENTERS\n\nRobbey Lopez\nM.S\, USAW\, PES\, CESHead Strength and ConditioningBrownsville Porter \n\nJoshua Silva\nHSSCCHead Strength and Conditioning CoachSharyland High School \nFamily Day SCHEDULE\n			April 12\, 2025\n	  @\n11:00 am\n	  –\n2:00 pm \n10:30-11:00 am – CHECK-IN/REGISTRATION \n11:00-11:05 am – WELCOMEOverview of Day’s Activities & Presentations from Coach Elton Coach Elton Crochran\, Head Strength and Conditioning Coach\, Veterans Memorial HS \n11:05-11:55 am – LECTUREThe Cowboy Way: Mastering the Tier System for High School Success with Coach Robbey Lopez \nOVERVIEW: Are you looking for a proven and simplified approach to strength training that maximizes results without overcomplicating the process? Coach Robby Lopez\, Head Strength & Powerlifting Coach at Porter Early College High School (TX)\, is bringing The Cowboy Way to the stage—showing you how to seamlessly implement the Tier System into your program for stronger\, more explosive\, and injury-resistant athletes. \nWhat You’ll Learn: \n\nA No-Nonsense Approach to the Tier System – Simplify programming without sacrificing results.\nBalancing Explosive & Non-Explosive Training – Optimize power\, strength\, and durability.\nGame-Ready Athletes – Learn how strategic training frequency builds peak performance.\nTeam Unity & Culture – How structured strength work fosters leadership and accountability.\nCustomizing the System – Tailor workouts to fit your high school athletes’ specific needs.\n\nWhether you’re new to the Tier System or looking for fresh insights to enhance your current approach\, this session will equip you with practical\, battle-tested strategies to elevate your program. \n12:00-12:50 pm – LECTUREProgram Design for a 90-Minute Athletic Block with Coach Joshua Silva \nOVERVIEW: Most high school athletic periods are 50-60 minutes\, but with more schools adopting 75-90 minute block schedules\, coaches have a game-changing opportunity to train smarter\, not just longer. \nJoin Coach Joshua Silva\, Head Strength & Conditioning Coach and Defensive Coordinator at Sharyland High School\, as he breaks down how to structure an extended training block to get the most out of every session. \nWhat You’ll Learn: \n\nThe Blueprint for a Winning Session – How to structure warm-ups\, lifts\, and conditioning.\nMaximizing Extra Time – Integrating plyometrics\, agility\, and change of direction for better athletic performance.\nBalancing Volume & Intensity – Keeping athletes fresh while pushing them to their peak.\nReal-World Application – How to make every second count in a longer training period.\n\nWhether you’re adapting to longer class periods or just looking to refine your programming\, this session will provide you with practical strategies to build stronger\, faster\, and more explosive athletes! \n1:00-1:50 pm – ROUNDTABLE \n1:50-2:00 pm – CLOSING REMARKSFrom Coach Elton Crochran \nSpecial ‘Thank You’ to our partners\n																\n															\n		\n\n	Who's coming?\n\n	8 people are attending 2025 NHSSCA Texas Family Day \n	\n		\n	\n		\n	\n		\n	\n\n	\n	\n	 \n\n	2025 NHSSCA Texas State Clinic\nPlease only RSVP if you’re sure you will attend. Your RSVP lets staff prepare and coordinate venue capacities with authorities whenever appropriate. \n		0\n		Going\n		RSVP Here\n	\n		Going	\n\n	\n	Add to calendar	\n		\n	\n \n\n\n	Google Calendar\n\n\n	iCalendar\n\n\n	Outlook 365\n\n\n	Outlook Live\n\n\n\n	Organizer\n\n			\n			Elton Crochran			\n	\n\n					\n						\n	 \n\n\n					\n			coachcroc2@gmail.com			\n	 \n\n	Venue\n\n			\n		Harlingen High School			\n	\n\n	Address:\n\n1201 Marshall Ave\n		\n		Halingen\,\,\n	TX\n	78550\n	United States\n\n\n	+ Google Map \n\n					\n						\n	 \n\n\n \n\n\n\n\n				2025 NHSSCA Oklahoma State Clinic	\n\n\n	\n		2025 NHSSCA New York State Clinic
URL:https://nhssca.us/event/2025-nhssca-texas-family-day/
LOCATION:Harlingen High School\, 1201 Marshall Ave\, Halingen\,\, TX\, 78550\, United States
CATEGORIES:Family Day
ATTACH;FMTTYPE=image/webp:https://nhssca.us/wp-content/uploads/2025/03/2025-tx-family-day.webp
ORGANIZER;CN="Elton Crochran":MAILTO:coachcroc2@gmail.com
END:VEVENT
BEGIN:VEVENT
DTSTART;TZID=America/New_York:20240413T090000
DTEND;TZID=America/New_York:20240413T120000
DTSTAMP:20260424T130916
CREATED:20231225T161844Z
LAST-MODIFIED:20240323T000147Z
UID:10000091-1712998800-1713009600@nhssca.us
SUMMARY:Texas (Valley) - Family Day // San Benito High School
DESCRIPTION:Special Thank you to our Partners\n														\n															 \nTexas Family Day PRESENTERS\n\nCarlosCuellar\nStrength and Conditioning CoordinatorSan Benito High School \n\nMichaelAguilar\nHead Strength and Conditioning CoachHarlingen High School \n#FAMILY DAY SCHEDULE\n8:30-8:50 am – CHECK-IN/REGISTRATION \n9:00-9:05 am – WELCOMEOverview of Day’s Activities / Presentations by Elton Crochran\, Head Strength & Conditioning Coach at Veterans Memorial HS in San Antonio\, TX \n9:05-9:55 am – HANDS-ON (no slides)Introduction to Rudiment Plyometrics by Carlos Cuellar \nOVERVIEW: This presentation will cover the development of power through plyometric training. The drills that will be covered will feature progressions that are used for beginner athletes and progress through senior level athletes. Coach Cuellar will share many of the drills that are being implemented at San Benito HS and explain the cues and organization of each drill. The goal is to breakdown and provide another perspective for plyometric training. Everyone in attendance should be able to take home plyometric drills/ variations that they can use at their respective HS. \n10:00-10:50 am – DUAL: LECTURE+HANDS-ONJudo Falling Techniques For Injury Prevention by Michael Aguilar \nOVERVIEW: This engaging lecture goes beyond the traditional training calendar\, advocating for year-round training to achieve optimal adaptations in athletes. Discover the crucial balance between in-season and off-season training\, as we guide you through a comprehensive August-to-May training schedule. Delve into the distinct phases and targeted exercises employed during the school year at Harlingen High School\, a program renowned for its success across various sports. Coach Aguilar will share his unique insights and effective exercise prescriptions that have propelled Harlingen HS athletes to new heights. Learn the strategies that make Coach Aguilar’s program a standout. Gain valuable knowledge on crafting a training regime that keeps athletes at their peak all year round\, setting the stage for unparalleled success in any sport. \n11:00-11:50 pm – ROUNDTABLE \n11:50 am -12:00 pm – CLOSING REMARKSElton Crochran\, Head Strength & Conditioning Coach at Veterans Memorial HS in San Antonio\, TX
URL:https://nhssca.us/event/texas-valley-family-day-san-benito-high-school/
LOCATION:Sam Bento High School\, 450 S Oscar Williams Rd\, San Benito\, 78586\, United States
CATEGORIES:Family Day
ATTACH;FMTTYPE=image/jpeg:https://nhssca.us/wp-content/uploads/2023/12/tx-valley-family-day-2024.jpg
ORGANIZER;CN="Elton Crochran":MAILTO:coachcroc2@gmail.com
END:VEVENT
END:VCALENDAR