BEGIN:VCALENDAR
VERSION:2.0
PRODID:-//National High School Strength Coaches Association - ECPv6.15.20//NONSGML v1.0//EN
CALSCALE:GREGORIAN
METHOD:PUBLISH
X-ORIGINAL-URL:https://nhssca.us
X-WR-CALDESC:Events for National High School Strength Coaches Association
REFRESH-INTERVAL;VALUE=DURATION:PT1H
X-Robots-Tag:noindex
X-PUBLISHED-TTL:PT1H
BEGIN:VTIMEZONE
TZID:America/New_York
BEGIN:DAYLIGHT
TZOFFSETFROM:-0500
TZOFFSETTO:-0400
TZNAME:EDT
DTSTART:20250309T070000
END:DAYLIGHT
BEGIN:STANDARD
TZOFFSETFROM:-0400
TZOFFSETTO:-0500
TZNAME:EST
DTSTART:20251102T060000
END:STANDARD
BEGIN:DAYLIGHT
TZOFFSETFROM:-0500
TZOFFSETTO:-0400
TZNAME:EDT
DTSTART:20260308T070000
END:DAYLIGHT
BEGIN:STANDARD
TZOFFSETFROM:-0400
TZOFFSETTO:-0500
TZNAME:EST
DTSTART:20261101T060000
END:STANDARD
BEGIN:DAYLIGHT
TZOFFSETFROM:-0500
TZOFFSETTO:-0400
TZNAME:EDT
DTSTART:20270314T070000
END:DAYLIGHT
BEGIN:STANDARD
TZOFFSETFROM:-0400
TZOFFSETTO:-0500
TZNAME:EST
DTSTART:20271107T060000
END:STANDARD
END:VTIMEZONE
BEGIN:VEVENT
DTSTART;TZID=America/New_York:20260117T083000
DTEND;TZID=America/New_York:20260117T130000
DTSTAMP:20260421T091133
CREATED:20251209T134712Z
LAST-MODIFIED:20260117T133150Z
UID:10000167-1768638600-1768654800@nhssca.us
SUMMARY:2026 NHSSCA Ohio State Clinic
DESCRIPTION:« All Events \n2026 NHSSCA Ohio State Clinic\nJanuary 17\, 2026\n@\n8:30 am\n–\n1:00 pm \nState Clinic PRESENTERS\n\nBrian Mong\nHead Strength Coach\nBishop Watterson High School \n\nBobby Kaleal\nCSCS\, RSCC\, TPI – L2\, USA Boxing – L2\nDirector of Sports Performance\nSPIRE Acadmey \n\nDr. Dylan Seeley\nDACBSP\, ICCSP\nChiropractor/Performance Coach\nInferno Performance Rehab \n\nKelly Powers\nMSCC\, CSCC\, CSCS\nAthletic Director\nSaint Ursula Academy \nState Clinic SCHEDULE\nJanuary 17\, 2026\n@\n8:30 am\n–\n1:00 pm \n8:30-9:00 am – CHECK-IN/REGISTRATION \n8:45-9:00 am – WELCOME\nOverview of Day’s Activities & Presentations \n9:00-9:45 am – LECTURE\nSetting Standards Not Rules – Creating A Championship System Within The High School Setting by Brian Mong \nOVERVIEW: Coach Brian Mong is coming to the 2026 Ohio NHSSCA State Clinic to break down one of the most important pillars of high-school performance: Building a Championship System Through Standards\, Not Rules. If you care about culture\, communication\, and creating a unified training environment\, this session is for you. \nCoach Mong will show how clear\, shared standards drive accountability\, athlete ownership\, and consistent behavior—without relying on constant discipline. He’ll outline practical ways to communicate expectations\, align sport and strength staff\, and build a system that sustains success year after year. \n10:00-10:45 am – LECTURE\n25 Years of Training\, Toys\, & Tips: Helping High School Strength & Conditioning Coaches Navigate and Own Their Space by Bobby Kaleal \nOVERVIEW: From building elite systems at SPRI & SPIRE\, to preparing operators for the FBI Hostage Rescue Team\, to coaching UFC Champion Stipe Miocic\, Bobby understands performance at the highest level—and how to scale those principles for high school athletes. \nHis session will dig into the practical side of coaching: \n\nHow to build adaptable systems in resource-limited environments.\nHow to integrate technology with purpose\, not noise.\nHow to evaluate athletes efficiently and program with clarity.\nHow to create training environments that develop toughness\, ownership\, and competitiveness.\nHow to make high-performance principles accessible for every athlete in your building.\n\nBobby’s goal is simple: Give high school strength coaches the tools\, strategies\, and decision-making frameworks to elevate their entire program. \n11:00-11:45 am – LECTURE\nHow to Manage and Overcome Pain in the Weight Room Dr. Dylan Seeley \nOVERVIEW: Dr. Seeley is a chiropractor\, performance coach\, and owner of Inferno Performance Rehab. He bridges the gap between treatment and performance like few others—helping athletes not only return to play\, but truly return to performance. His hands-on presentation will break down real\, practical strategies coaches and clinicians can use immediately. \nHe’ll cover: \n\nHow to identify common pain patterns in the weight room\nWhen to modify\, when to regress\, and when to keep training\nHow to build athlete confidence through smart problem-solving\nSimple interventions that improve movement quality and reduce discomfort\nCommunication strategies that align coaches\, clinicians\, and athletes\n\nIf you work with athletes in any capacity\, this is a session that will sharpen your eye\, upgrade your toolbox\, and elevate how you manage pain in real-time training environments. \n12:00-12:45 pm – LECTURE\nThe Other Side Of The Sideline – Transitioning from Strength Coach to Administration Kelly Powers \nOVERVIEW: Kelly Powers\, Master Strength & Conditioning Coach turned Athletic Director\, will be joining us to share an inside look at one of the most unique transitions in our profession—moving from the weight room to the front office. \nKelly will break down what the shift really looks like: \n\nHow a strength coach’s skill set carries over to athletic administration.\nThe challenges and opportunities that come with leading an entire athletic department.\nHow to communicate\, collaborate\, and influence from a new seat.\nWhat she wishes more strength coaches understood about the AD role.\nAnd how the transition has reshaped her perspective on culture\, alignment\, and program development.\n\nIf you’ve ever considered stepping into leadership beyond the weight room—or want to understand how to work more effectively with your AD—this session will be invaluable. \n1:00-1:45 pm – LUNCH PROVIDED \nMore Than a Meal\, It’s a Networking Opportunity at the end of this State Clinic. Lunch at the NHSSCA Clinic is not just about grabbing a plate and catching up with your usual circle. It’s a chance to collaborate\, share\, and expand your professional network. Whether you’re a seasoned veteran or just stepping into the field of high school strength and conditioning\, this is your moment to connect with coaches who inspire\, mentor\, and challenge you to grow. \nIf you leave this clinic without making at least one new connection\, you’ve missed an incredible opportunity to grow professionally and personally. The NHSSCA is more than an organization—it’s a #FAMILY\, built on shared knowledge\, support\, and a commitment to making each other better. \nSo\, don’t just eat—engage\, listen\, and learn. The people sitting around you might change how you approach coaching forever. Let’s make this lunch one to remember! #NHSSCA #FAMILY #CoachingConnections #GrowYourNetwork \n1:50-2:00 pm – CLOSING REMARKS \nSpecial ‘Thank You’ to our partners\n\n \n\n\n	Who's coming?\n\n	68 people are attending 2026 NHSSCA Ohio State Clinic \n	\n \n\n\n\n\n \nTickets\nWho’s coming?\nThe numbers below include tickets for this event already in your cart. Clicking “Get Tickets” will allow you to edit any existing attendee information as well as change ticket quantities.\n2026 NHSSCA Ohio State Clinic – Non-Member\n2026 NHSSCA Ohio State Clinic // Non-Member // Admit 1\n$\n100.00\nUnlimited\n\nQuantity \n\n\n2026 NHSSCA Ohio State Clinic – Standard Member\n2026 NHSSCA Ohio State Clinic // Standard Member // Admit 1\n$\n75.00\nUnlimited\n\nQuantity \n\n\n2026 NHSSCA Ohio State Clinic – Professional Member\n2026 NHSSCA Ohio State Clinic // Professional Member // Admit 1\n$\n50.00\nUnlimited\n\nQuantity \n\n\n2026 NHSSCA Ohio State Clinic – Student Member\n2026 NHSSCA Ohio State Clinic // Student Member // Admit 1\n$\n35.00\nUnlimited\n\nQuantity \n\n\nQuantity:\n0\nTotal:\n$\n0.00\nGet Tickets \n\n\n\nAdd to calendar \n \n\nGoogle Calendar\niCalendar\nOutlook 365\nOutlook Live\n\nOrganizer\n\nLogan Neff \n  \n\nlogan.neff@ihsd.us  \nVenue\n\nBishop Hartley High School \nAddress:\n1285 Zettler Rd \nColumbus\,\nOH\n43227\nUnited States\n+ Google Map \n  \n\n \n\n\n\n2025 NHSSCA Indiana Family Social \n\n2026 NHSSCA Arkansas State Clinic
URL:https://nhssca.us/event/2026-nhssca-ohio-state-clinic/
LOCATION:Bishop Hartley High School\, 1285 Zettler Rd\, Columbus\, OH\, 43227\, United States
CATEGORIES:State Clinic
ATTACH;FMTTYPE=image/webp:https://nhssca.us/wp-content/uploads/2025/12/2026-nhssca-oh-state-clinic.webp
ORGANIZER;CN="Logan Neff":MAILTO:logan.neff@ihsd.us
END:VEVENT
END:VCALENDAR