BEGIN:VCALENDAR
VERSION:2.0
PRODID:-//National High School Strength Coaches Association - ECPv6.15.20//NONSGML v1.0//EN
CALSCALE:GREGORIAN
METHOD:PUBLISH
X-WR-CALNAME:National High School Strength Coaches Association
X-ORIGINAL-URL:https://nhssca.us
X-WR-CALDESC:Events for National High School Strength Coaches Association
REFRESH-INTERVAL;VALUE=DURATION:PT1H
X-Robots-Tag:noindex
X-PUBLISHED-TTL:PT1H
BEGIN:VTIMEZONE
TZID:America/New_York
BEGIN:DAYLIGHT
TZOFFSETFROM:-0500
TZOFFSETTO:-0400
TZNAME:EDT
DTSTART:20240310T070000
END:DAYLIGHT
BEGIN:STANDARD
TZOFFSETFROM:-0400
TZOFFSETTO:-0500
TZNAME:EST
DTSTART:20241103T060000
END:STANDARD
BEGIN:DAYLIGHT
TZOFFSETFROM:-0500
TZOFFSETTO:-0400
TZNAME:EDT
DTSTART:20250309T070000
END:DAYLIGHT
BEGIN:STANDARD
TZOFFSETFROM:-0400
TZOFFSETTO:-0500
TZNAME:EST
DTSTART:20251102T060000
END:STANDARD
BEGIN:DAYLIGHT
TZOFFSETFROM:-0500
TZOFFSETTO:-0400
TZNAME:EDT
DTSTART:20260308T070000
END:DAYLIGHT
BEGIN:STANDARD
TZOFFSETFROM:-0400
TZOFFSETTO:-0500
TZNAME:EST
DTSTART:20261101T060000
END:STANDARD
END:VTIMEZONE
BEGIN:VEVENT
DTSTART;TZID=America/New_York:20251101T090000
DTEND;TZID=America/New_York:20251101T110000
DTSTAMP:20260423T014004
CREATED:20251008T140235Z
LAST-MODIFIED:20251008T140354Z
UID:10000156-1761987600-1761994800@nhssca.us
SUMMARY:2025 Illinois Family Social
DESCRIPTION:« All Events\n \n\n	2025 Illinois Family Social\n			November 1\, 2025\n	  @\n9:00 am\n	  –\n11:00 am \nAbout the NHSSCA Family Social\n		The NHSSCA Family Social is a relaxed\, relationship-building event that brings together sport coaches\, strength coaches\, and anyone who oversees a high school weight room—along with their families and peers—to connect outside the weight room. Designed to complement our spring clinics and summer NatCon\, these fall gatherings focus on conversation over presentations\, creating space for coaches to share ideas\, celebrate wins\, and support one another in community.\n	\n	\n\n	\n	\n\n	\n	\n \n\n	2025 NHSSCA Illinios Family Social\nSATURDAY\, NOVEMBER 1ST 9:00 – 11:00AM\nNHSSCA ILLINOIS\, OAK + BEAN COFFEE SHOP\, 100 W WASHINGTON ST\, OSWEGO\, IL 60543 \n		0\n		Going\n		RSVP Here\n	\n		Going	\n\n	\n	Add to calendar	\n		\n	\n \n\n\n	Google Calendar\n\n\n	iCalendar\n\n\n	Outlook 365\n\n\n	Outlook Live\n\n\n\n	Organizer\n\n			\n			John Beerbower			\n	\n\n					\n						\n	 \n\n\n					\n			beerbowerjohn@dist156.org			\n	 \n\n	Venue\n\n			\n		Oak + Bean Coffee Shop			\n	\n\n	Address:\n\n100 W Washington St\n		\n		Oswego\,\n	IL\n	60543\n	United States\n\n\n	+ Google Map \n\n					\n						\n	 \n\n\n \nSpecial ‘Thank You’ to our partners\n																\n															 \n\n\n\n\n				2025 Florida Family Social
URL:https://nhssca.us/event/2025-illinois-family-social/
LOCATION:Oak + Bean Coffee Shop\, 100 W Washington St\, Oswego\, IL\, 60543\, United States
CATEGORIES:Family Day
ATTACH;FMTTYPE=image/webp:https://nhssca.us/wp-content/uploads/2025/10/2025-NHSSCA-IL-Family-Social2.webp
ORGANIZER;CN="John Beerbower":MAILTO:beerbowerjohn@dist156.org
END:VEVENT
END:VCALENDAR