BEGIN:VCALENDAR
VERSION:2.0
PRODID:-//National High School Strength Coaches Association - ECPv6.15.20//NONSGML v1.0//EN
CALSCALE:GREGORIAN
METHOD:PUBLISH
X-WR-CALNAME:National High School Strength Coaches Association
X-ORIGINAL-URL:https://nhssca.us
X-WR-CALDESC:Events for National High School Strength Coaches Association
REFRESH-INTERVAL;VALUE=DURATION:PT1H
X-Robots-Tag:noindex
X-PUBLISHED-TTL:PT1H
BEGIN:VTIMEZONE
TZID:America/New_York
BEGIN:DAYLIGHT
TZOFFSETFROM:-0500
TZOFFSETTO:-0400
TZNAME:EDT
DTSTART:20240310T070000
END:DAYLIGHT
BEGIN:STANDARD
TZOFFSETFROM:-0400
TZOFFSETTO:-0500
TZNAME:EST
DTSTART:20241103T060000
END:STANDARD
BEGIN:DAYLIGHT
TZOFFSETFROM:-0500
TZOFFSETTO:-0400
TZNAME:EDT
DTSTART:20250309T070000
END:DAYLIGHT
BEGIN:STANDARD
TZOFFSETFROM:-0400
TZOFFSETTO:-0500
TZNAME:EST
DTSTART:20251102T060000
END:STANDARD
BEGIN:DAYLIGHT
TZOFFSETFROM:-0500
TZOFFSETTO:-0400
TZNAME:EDT
DTSTART:20260308T070000
END:DAYLIGHT
BEGIN:STANDARD
TZOFFSETFROM:-0400
TZOFFSETTO:-0500
TZNAME:EST
DTSTART:20261101T060000
END:STANDARD
END:VTIMEZONE
BEGIN:VEVENT
DTSTART;TZID=America/New_York:20251114T150000
DTEND;TZID=America/New_York:20251114T200000
DTSTAMP:20260425T081243
CREATED:20251025T174455Z
LAST-MODIFIED:20251105T163627Z
UID:10000159-1763132400-1763150400@nhssca.us
SUMMARY:2025 Wisconsin Family Social
DESCRIPTION:« All Events \n2025 Wisconsin Family Social\nNovember 14\, 2025\n@\n3:00 pm\n–\n8:00 pm \nAbout the NHSSCA Family Social\nThe NHSSCA Family Social is a relaxed\, relationship-building event that brings together sport coaches\, strength coaches\, and anyone who oversees a high school weight room—along with their families and peers—to connect outside the weight room. Designed to complement our spring clinics and summer NatCon\, these fall gatherings focus on conversation over presentations\, creating space for coaches to share ideas\, celebrate wins\, and support one another in community. \n2025 NHSSCA Wisconsin Family Social – Eau Claire North High School + Brewing Projekt\nSite Visit Location: Eau Claire North High School\nTime: 3:00-6:00 pm | Social Location: Brewing Projekt\, 1807 N Oxford Ave\, Eau Claire\, WI 54703\nTime: 6:00-8:00 pm \n0\nGoing\nLast day to RSVP\nRSVP Here\n\nGoing  \n2025 NHSSCA Wisconsin Family Social – Watertown High School + Bismarck’s Bar & Grill\nSite Visit Location: Watertown High School\, Time: 4:45-5:45 pm | Social Location: Bismarck’s Bar & Grill\, 105 E Main St.\, Watertown\, WI 53094\, Time: 6:00-8:00 pm \n0\nGoing\nLast day to RSVP\nRSVP Here\n\nGoing  \n2025 NHSSCA Wisconsin Family Social – Pacelli Catholic High School + District 1 Brewery\nSite Visit Location: Pacelli Catholic High School\nTime: 3:00-6:00 pm | Social Location: District 1 Brewery\, 200 Division St. N\, Stevens Point\, WI\nTime: 6:00-8:00 pm \n0\nGoing\nLast day to RSVP\nRSVP Here\n\nGoing \n\n\nAdd to calendar \n  \n\nGoogle Calendar\niCalendar\nOutlook 365\nOutlook Live\n\nOrganizer\n\nCharlie Woida \n  \n\ncwoida@spacs.k12.wi.us  \nVenues\n\nPacelli Catholic High School \nAddress:\n1301 Maria Dr.Stevens Point\,\nWI\n54481\nUnited States\n+ Google Map \n  \n\n \n\nEau Claire North High School \nAddress:\n1801 Piedmont RdEau Claire\,\n54703\nUnited States\n+ Google Map \n  \n\n \n\nWatertown High School \nAddress:\n825 Endeavour Dr.Watertown\,\,\n53098\nUnited States\n+ Google Map \n  \n\n \nSpecial ‘Thank You’ to our partners\n\n  \n\n\n\n2025 Illinois Family Social \n\n2025 South Carolina Family Socials
URL:https://nhssca.us/event/2025-wisconsin-family-social/
LOCATION:Pacelli Catholic High School\, 1301 Maria Dr.\, Stevens Point\, WI\, 54481\, United States
CATEGORIES:Family Day
ATTACH;FMTTYPE=image/webp:https://nhssca.us/wp-content/uploads/2025/10/2025-NHSSCA-WI-Family-Social2.webp
ORGANIZER;CN="Charlie Woida":MAILTO:cwoida@spacs.k12.wi.us
END:VEVENT
END:VCALENDAR